BEGIN:VCALENDAR
PRODID:-//teamtrupti//EN
X-WR-TIMEZONE:US/Eastern
BEGIN:VEVENT
DTSTART;TZID=US/Eastern:20240604T000000
DTEND;TZID=US/Eastern:20240623T000000
LOCATION:6355 Mayo Ln, Ketchikan, AK 99901
DESCRIPTION;ENCODING=QUOTED-PRINTABLE:test
SUMMARY:Ramiro 6/4 non ticketted
X-MICROSOFT-CDO-BUSYSTATUS:OOF
PRIORITY:5
END:VEVENT
END:VCALENDAR
